BEGIN:VCALENDAR
VERSION:2.0
PRODID:-//6-wire - ECPv6.15.13//NONSGML v1.0//EN
CALSCALE:GREGORIAN
METHOD:PUBLISH
X-ORIGINAL-URL:https://6-wire.com
X-WR-CALDESC:Events for 6-wire
REFRESH-INTERVAL;VALUE=DURATION:PT1H
X-Robots-Tag:noindex
X-PUBLISHED-TTL:PT1H
BEGIN:VTIMEZONE
TZID:Asia/Hong_Kong
BEGIN:STANDARD
TZOFFSETFROM:+0800
TZOFFSETTO:+0800
TZNAME:HKT
DTSTART:20170101T000000
END:STANDARD
END:VTIMEZONE
BEGIN:VTIMEZONE
TZID:America/New_York
BEGIN:DAYLIGHT
TZOFFSETFROM:-0500
TZOFFSETTO:-0400
TZNAME:EDT
DTSTART:20160313T070000
END:DAYLIGHT
BEGIN:STANDARD
TZOFFSETFROM:-0400
TZOFFSETTO:-0500
TZNAME:EST
DTSTART:20161106T060000
END:STANDARD
BEGIN:DAYLIGHT
TZOFFSETFROM:-0500
TZOFFSETTO:-0400
TZNAME:EDT
DTSTART:20170312T070000
END:DAYLIGHT
BEGIN:STANDARD
TZOFFSETFROM:-0400
TZOFFSETTO:-0500
TZNAME:EST
DTSTART:20171105T060000
END:STANDARD
BEGIN:DAYLIGHT
TZOFFSETFROM:-0500
TZOFFSETTO:-0400
TZNAME:EDT
DTSTART:20180311T070000
END:DAYLIGHT
BEGIN:STANDARD
TZOFFSETFROM:-0400
TZOFFSETTO:-0500
TZNAME:EST
DTSTART:20181104T060000
END:STANDARD
END:VTIMEZONE
BEGIN:VEVENT
DTSTART;TZID=Asia/Hong_Kong:20181115T200000
DTEND;TZID=Asia/Hong_Kong:20181115T220000
DTSTAMP:20260424T145436
CREATED:20181107T154440Z
LAST-MODIFIED:20181107T154440Z
UID:1416-1542312000-1542319200@6-wire.com
SUMMARY:Bright Sheng and 6-wire
DESCRIPTION:Bright Sheng and 6-wire:\nCelebrating the Installation of Prof. Wei Shyy as President of HKUST \nCMA Lecture Theatre – The Hong Kong University of Science and Technology \nBright Sheng\, composer and piano \nMatthew Brower\, Pianist\, piano\nXiang Gao\, violin\nCathy Yang 杨悦\, erhu \nwith special guest\nGabriel Cabezas\, violoncello \nProgram \nGang Chen (arr. 6-wire)\nSunshine Over The Tashikuergan Desert \nWei Zhou\nThe Grapes Are Ripe for erhu and piano (Chinese folksong) \nEdgar Grieg\nSonata for violin and piano in C minor (mvt. 1) \nGao and Yang\nSixth Sense for 6-wire & violoncello \nVittorio Monti\nCzardas \nAstor Piazzolla (arr. Xiang Gao)\nLibertango \nBright Sheng\nClearwater Rhapsody for erhu\, violin\, violoncello and piano\n(Asia Premiere)
URL:https://6-wire.com/event/bright-sheng-and-6-wire-2/
CATEGORIES:Piano Trio
ATTACH;FMTTYPE=image/jpeg:https://6-wire.com/wp-content/uploads/2018/11/Bright-Sheng-and-6-wire.jpg
END:VEVENT
BEGIN:VEVENT
DTSTART;TZID=America/New_York:20171209T150000
DTEND;TZID=America/New_York:20171209T170000
DTSTAMP:20260424T145436
CREATED:20170922T020651Z
LAST-MODIFIED:20171117T222608Z
UID:497-1512831600-1512838800@6-wire.com
SUMMARY:Holiday Pops: Frank Sinatra's Coming to Town
DESCRIPTION:6-wire joins Las Vegas sensation Steve Lippia for the upcoming Master Players concert. \n\n					Learn more\n					https://www.masterplayers.udel.edu/events/holiday-pops
URL:https://6-wire.com/event/mpcs-with-vegas-sensation-steve-lippia/
LOCATION:Mitchell Hall\, Newark\, DE\, 19716\, United States
CATEGORIES:Piano Trio
END:VEVENT
END:VCALENDAR